BEGIN:VCALENDAR
VERSION:2.0
PRODID:-//Axe Drax - ECPv6.15.20//NONSGML v1.0//EN
CALSCALE:GREGORIAN
METHOD:PUBLISH
X-WR-CALNAME:Axe Drax
X-ORIGINAL-URL:https://axedrax.uk
X-WR-CALDESC:Events for Axe Drax
REFRESH-INTERVAL;VALUE=DURATION:PT1H
X-Robots-Tag:noindex
X-PUBLISHED-TTL:PT1H
BEGIN:VTIMEZONE
TZID:Europe/London
BEGIN:DAYLIGHT
TZOFFSETFROM:+0000
TZOFFSETTO:+0100
TZNAME:BST
DTSTART:20230326T010000
END:DAYLIGHT
BEGIN:STANDARD
TZOFFSETFROM:+0100
TZOFFSETTO:+0000
TZNAME:GMT
DTSTART:20231029T010000
END:STANDARD
BEGIN:DAYLIGHT
TZOFFSETFROM:+0000
TZOFFSETTO:+0100
TZNAME:BST
DTSTART:20240331T010000
END:DAYLIGHT
BEGIN:STANDARD
TZOFFSETFROM:+0100
TZOFFSETTO:+0000
TZNAME:GMT
DTSTART:20241027T010000
END:STANDARD
BEGIN:DAYLIGHT
TZOFFSETFROM:+0000
TZOFFSETTO:+0100
TZNAME:BST
DTSTART:20250330T010000
END:DAYLIGHT
BEGIN:STANDARD
TZOFFSETFROM:+0100
TZOFFSETTO:+0000
TZNAME:GMT
DTSTART:20251026T010000
END:STANDARD
END:VTIMEZONE
BEGIN:VEVENT
DTSTART;TZID=Europe/London:20241028T180000
DTEND;TZID=Europe/London:20241028T190000
DTSTAMP:20260419T141727
CREATED:20241018T163254Z
LAST-MODIFIED:20241018T163733Z
UID:351-1730138400-1730142000@axedrax.uk
SUMMARY:Resisting Britain's dirtiest power station: Axe Drax welcome call
DESCRIPTION:Ed Miliband is facing a choice to extend the life of Drax\, the UK’s single biggest carbon emitter and worlds biggest tree burning power station that fuels environmental racism across the world. But what does this mean\, and more importantly how can we resist it? \nJoin Axe Drax for an short online call to find out what Drax is\, and the threat we face if Drax is allowed to burn their way through the worlds precious forests. \nMost importantly we will talk about the strategy to win and how you can be part of the resistance against Drax. \nSign up here to get the Zoom link to join the call.
URL:https://axedrax.uk/event/welcome-28-oct/
CATEGORIES:Welcome Call
ATTACH;FMTTYPE=image/jpeg:https://axedrax.uk/wp-content/uploads/2024/10/NZ6_0402-scaled.jpg
END:VEVENT
END:VCALENDAR